BEGIN:VCALENDAR
VERSION:2.0
PRODID:-//Computer Engineering Department - ECPv5.8.2//NONSGML v1.0//EN
CALSCALE:GREGORIAN
METHOD:PUBLISH
X-WR-CALNAME:Computer Engineering Department
X-ORIGINAL-URL:https://engineering.tiu.edu.iq/computer
X-WR-CALDESC:Events for Computer Engineering Department
BEGIN:VTIMEZONE
TZID:UTC
BEGIN:STANDARD
TZOFFSETFROM:+0000
TZOFFSETTO:+0000
TZNAME:UTC
DTSTART:20160101T000000
END:STANDARD
END:VTIMEZONE
BEGIN:VEVENT
DTSTART;VALUE=DATE:20161216
DTEND;VALUE=DATE:20161217
DTSTAMP:20210826T111841
CREATED:20161215T105840Z
LAST-MODIFIED:20161215T105841Z
UID:713-1481846400-1481932799@engineering.tiu.edu.iq
SUMMARY:Tree Plantation
DESCRIPTION:Related
URL:https://engineering.tiu.edu.iq/computer/event/tree-plantation/
ATTACH;FMTTYPE=image/jpeg:https://engineering.tiu.edu.iq/computer/wp-content/uploads/2015/05/56f59600941f9.image_.jpg
END:VEVENT
END:VCALENDAR