BEGIN:VCALENDAR
VERSION:2.0
PRODID:-//Computer Engineering Department - ECPv5.8.2//NONSGML v1.0//EN
CALSCALE:GREGORIAN
METHOD:PUBLISH
X-WR-CALNAME:Computer Engineering Department
X-ORIGINAL-URL:https://engineering.tiu.edu.iq/computer
X-WR-CALDESC:Events for Computer Engineering Department
BEGIN:VTIMEZONE
TZID:UTC
BEGIN:STANDARD
TZOFFSETFROM:+0000
TZOFFSETTO:+0000
TZNAME:UTC
DTSTART:20160101T000000
END:STANDARD
END:VTIMEZONE
BEGIN:VEVENT
DTSTART;TZID=UTC:20160428T100000
DTEND;TZID=UTC:20160428T110000
DTSTAMP:20210826T111553
CREATED:20160411T103610Z
LAST-MODIFIED:20160411T104532Z
UID:420-1461837600-1461841200@engineering.tiu.edu.iq
SUMMARY:Graduation Photo
DESCRIPTION:Computer Engineering Department Graduation Photo’s will be on 28/4/2016 at 10:30 at Main Building Steps \n\n\n	Related
URL:https://engineering.tiu.edu.iq/computer/event/graduation-photo/
ATTACH;FMTTYPE=image/jpeg:https://engineering.tiu.edu.iq/computer/wp-content/uploads/2016/04/graduation-photo.jpg
END:VEVENT
END:VCALENDAR