BEGIN:VCALENDAR
VERSION:2.0
PRODID:-//Computer Engineering Department - ECPv5.8.2//NONSGML v1.0//EN
CALSCALE:GREGORIAN
METHOD:PUBLISH
X-WR-CALNAME:Computer Engineering Department
X-ORIGINAL-URL:https://engineering.tiu.edu.iq/computer
X-WR-CALDESC:Events for Computer Engineering Department
BEGIN:VTIMEZONE
TZID:UTC
BEGIN:STANDARD
TZOFFSETFROM:+0000
TZOFFSETTO:+0000
TZNAME:UTC
DTSTART:20160101T000000
END:STANDARD
END:VTIMEZONE
BEGIN:VEVENT
DTSTART;TZID=UTC:20160510T110000
DTEND;TZID=UTC:20160510T120000
DTSTAMP:20210826T111637
CREATED:20160509T054830Z
LAST-MODIFIED:20160509T054941Z
UID:427-1462878000-1462881600@engineering.tiu.edu.iq
SUMMARY:Career Days (Sina Group)
DESCRIPTION:Sina Group  (Mr.Ahmed) \nBaddradin Yousif   #301 \n\n\n	Related
URL:https://engineering.tiu.edu.iq/computer/event/career-days/
END:VEVENT
END:VCALENDAR