BEGIN:VCALENDAR
VERSION:2.0
PRODID:-//Computer Engineering Department - ECPv5.8.2//NONSGML v1.0//EN
CALSCALE:GREGORIAN
METHOD:PUBLISH
X-WR-CALNAME:Computer Engineering Department
X-ORIGINAL-URL:https://engineering.tiu.edu.iq/computer
X-WR-CALDESC:Events for Computer Engineering Department
BEGIN:VTIMEZONE
TZID:UTC
BEGIN:STANDARD
TZOFFSETFROM:+0000
TZOFFSETTO:+0000
TZNAME:UTC
DTSTART:20160101T000000
END:STANDARD
END:VTIMEZONE
BEGIN:VEVENT
DTSTART;TZID=UTC:20160511T133000
DTEND;TZID=UTC:20160511T143000
DTSTAMP:20210826T111704
CREATED:20160509T055112Z
LAST-MODIFIED:20160509T055112Z
UID:428-1462973400-1462977000@engineering.tiu.edu.iq
SUMMARY:Career Days (Ammar Yassin (1:30 PM)   Room Number  #301)
DESCRIPTION:Related
URL:https://engineering.tiu.edu.iq/computer/event/career-days-ammar-yassin-130-pm-room-number-301/
END:VEVENT
END:VCALENDAR